Workbook

Sheet Consolidated
B1: Management Report
B3: Consolidated | J3: Date: 11 September 2026 03:02
B4: Financial year: 2025
B5: Selection Criteria: Period 12, Exclude capital [n]
D8: Period | J8: YTD Totals | P8: Budget Comparison | T8: Full Year
D9: Actual | E9: Current Budget | F9: Commitment | G9: Variance (£) | H9: % of Budget Spent | J9: Actual | K9: Current Budget | L9: Commitment | M9: Variance (£) | N9: % of Budget Spent | P9: Original Budget | Q9: Current Budget | R9: Variance (£) | T9: Current Budget | U9: Total Actuals + Commitments to date | V9: Additional known commitments to the end of the year | W9: Remaining Profiled Budget | X9: Projected Budget Outturn | Y9: Variance (£) | Z9: Variance (%) | AA9: Notes
B10: Income
B11: INGAG - GAG Income | D11: =SUM(D12:D12) -> -1231305.4 | E11: =SUM(E12:E12) -> -1231299.7 | F11: =SUM(F12:F12) -> 0 | G11: =SUM(G12:G12) -> 5.65 | H11: =IF(E11<>0, (D11+F11)/E11, 0) -> 1.0000046 | J11: =SUM(J12:J12) -> -14775597 | K11: =SUM(K12:K12) -> -14775596 | L11: =SUM(L12:L12) -> 0 | M11: =SUM(M12:M12) -> 0.52 | N11: =IF(K11<>0, (J11+L11)/K11, 0) -> 1 | P11: =SUM(P12:P12) -> -14775596 | Q11: =SUM(Q12:Q12) -> -14775596 | R11: =SUM(R12:R12) -> -0.02 | T11: =SUM(T12:T12) -> -14775596 | U11: =SUM(U12:U12) -> -14775597 | V11: =SUM(V12:V12) -> 0 | W11: =SUM(W12:W12) -> 0 | X11: =SUM(X12:X12) -> -14775597 | Y11: =SUM(Y12:Y12) -> 0.52 | Z11: =IF(T11<>0, Y11/T11, 0) -> -3.5193165e-08
C12: 510100 - IN: DfE Rev Grants: GAG (not stud supp & trust) | D12: ='Fernvale Primary School'!D12+'Glenmere Primary School'!D12+'Hinckley Parks Primary'!D12+'Hollycroft Primary School'!D12+'Langmoor Primary School'!D12+'Little Hill Primary School'!D12+'New Lubbesthorpe Primary School'!D12+'Newlands Primary School'!D12+'Ravenhurst Primary School'!D12 -> -1231305.4 | E12: ='Fernvale Primary School'!E12+'Glenmere Primary School'!E12+'Hinckley Parks Primary'!E12+'Hollycroft Primary School'!E12+'Langmoor Primary School'!E12+'Little Hill Primary School'!E12+'New Lubbesthorpe Primary School'!E12+'Newlands Primary School'!E12+'Ravenhurst Primary School'!E12 -> -1231299.7 | F12: ='Fernvale Primary School'!F12+'Glenmere Primary School'!F12+'Hinckley Parks Primary'!F12+'Hollycroft Primary School'!F12+'Langmoor Primary School'!F12+'Little Hill Primary School'!F12+'New Lubbesthorpe Primary School'!F12+'Newlands Primary School'!F12+'Ravenhurst Primary School'!F12 -> 0 | G12: ='Fernvale Primary School'!G12+'Glenmere Primary School'!G12+'Hinckley Parks Primary'!G12+'Hollycroft Primary School'!G12+'Langmoor Primary School'!G12+'Little Hill Primary School'!G12+'New Lubbesthorpe Primary School'!G12+'Newlands Primary School'!G12+'Ravenhurst Primary School'!G12 -> 5.65 | H12: =IF(E12<>0, (D12+F12)/E12, 0) -> 1.0000046 | J12: ='Fernvale Primary School'!J12+'Glenmere Primary School'!J12+'Hinckley Parks Primary'!J12+'Hollycroft Primary School'!J12+'Langmoor Primary School'!J12+'Little Hill Primary School'!J12+'New Lubbesthorpe Primary School'!J12+'Newlands Primary School'!J12+'Ravenhurst Primary School'!J12 -> -14775597 | K12: ='Fernvale Primary School'!K12+'Glenmere Primary School'!K12+'Hinckley Parks Primary'!K12+'Hollycroft Primary School'!K12+'Langmoor Primary School'!K12+'Little Hill Primary School'!K12+'New Lubbesthorpe Primary School'!K12+'Newlands Primary School'!K12+'Ravenhurst Primary School'!K12 -> -14775596 | L12: ='Fernvale Primary School'!L12+'Glenmere Primary School'!L12+'Hinckley Parks Primary'!L12+'Hollycroft Primary School'!L12+'Langmoor Primary School'!L12+'Little Hill Primary School'!L12+'New Lubbesthorpe Primary School'!L12+'Newlands Primary School'!L12+'Ravenhurst Primary School'!L12 -> 0 | M12: ='Fernvale Primary School'!M12+'Glenmere Primary School'!M12+'Hinckley Parks Primary'!M12+'Hollycroft Primary School'!M12+'Langmoor Primary School'!M12+'Little Hill Primary School'!M12+'New Lubbesthorpe Primary School'!M12+'Newlands Primary School'!M12+'Ravenhurst Primary School'!M12 -> 0.52 | N12: =IF(K12<>0, (J12+L12)/K12, 0) -> 1 | P12: ='Fernvale Primary School'!P12+'Glenmere Primary School'!P12+'Hinckley Parks Primary'!P12+'Hollycroft Primary School'!P12+'Langmoor Primary School'!P12+'Little Hill Primary School'!P12+'New Lubbesthorpe Primary School'!P12+'Newlands Primary School'!P12+'Ravenhurst Primary School'!P12 -> -14775596 | Q12: ='Fernvale Primary School'!Q12+'Glenmere Primary School'!Q12+'Hinckley Parks Primary'!Q12+'Hollycroft Primary School'!Q12+'Langmoor Primary School'!Q12+'Little Hill Primary School'!Q12+'New Lubbesthorpe Primary School'!Q12+'Newlands Primary School'!Q12+'Ravenhurst Primary School'!Q12 -> -14775596 | R12: ='Fernvale Primary School'!R12+'Glenmere Primary School'!R12+'Hinckley Parks Primary'!R12+'Hollycroft Primary School'!R12+'Langmoor Primary School'!R12+'Little Hill Primary School'!R12+'New Lubbesthorpe Primary School'!R12+'Newlands Primary School'!R12+'Ravenhurst Primary School'!R12 -> -0.02 | T12: ='Fernvale Primary School'!T12+'Glenmere Primary School'!T12+'Hinckley Parks Primary'!T12+'Hollycroft Primary School'!T12+'Langmoor Primary School'!T12+'Little Hill Primary School'!T12+'New Lubbesthorpe Primary School'!T12+'Newlands Primary School'!T12+'Ravenhurst Primary School'!T12 -> -14775596 | U12: ='Fernvale Primary School'!U12+'Glenmere Primary School'!U12+'Hinckley Parks Primary'!U12+'Hollycroft Primary School'!U12+'Langmoor Primary School'!U12+'Little Hill Primary School'!U12+'New Lubbesthorpe Primary School'!U12+'Newlands Primary School'!U12+'Ravenhurst Primary School'!U12 -> -14775597 | V12: =IF('Fernvale Primary School'!V12="",0,'Fernvale Primary School'!V12)+IF('Glenmere Primary School'!V12="",0,'Glenmere Primary School'!V12)+IF('Hinckley Parks Primary'!V12="",0,'Hinckley Parks Primary'!V12)+IF('Hollycroft Primary School'!V12="",0,'Hollycroft Primary School'!V12)+IF('Langmoor Primary School'!V12="",0,'Langmoor Primary School'!V12)+IF('Little Hill Primary School'!V12="",0,'Little Hill Primary School'!V12)+IF('New Lubbesthorpe Primary School'!V12="",0,'New Lubbesthorpe Primary School'!V12)+IF('Newlands Primary School'!V12="",0,'Newlands Primary School'!V12)+IF('Ravenhurst Primary School'!V12="",0,'Ravenhurst Primary School'!V12) -> 0 | W12: ='Fernvale Primary School'!W12+'Glenmere Primary School'!W12+'Hinckley Parks Primary'!W12+'Hollycroft Primary School'!W12+'Langmoor Primary School'!W12+'Little Hill Primary School'!W12+'New Lubbesthorpe Primary School'!W12+'Newlands Primary School'!W12+'Ravenhurst Primary School'!W12 -> 0 | X12: ='Fernvale Primary School'!X12+'Glenmere Primary School'!X12+'Hinckley Parks Primary'!X12+'Hollycroft Primary School'!X12+'Langmoor Primary School'!X12+'Little Hill Primary School'!X12+'New Lubbesthorpe Primary School'!X12+'Newlands Primary School'!X12+'Ravenhurst Primary School'!X12 -> -14775597 | Y12: ='Fernvale Primary School'!Y12+'Glenmere Primary School'!Y12+'Hinckley Parks Primary'!Y12+'Hollycroft Primary School'!Y12+'Langmoor Primary School'!Y12+'Little Hill Primary School'!Y12+'New Lubbesthorpe Primary School'!Y12+'Newlands Primary School'!Y12+'Ravenhurst Primary School'!Y12 -> 0.52 | Z12: =IF(T12<>0, Y12/T12, 0) -> -3.5193165e-08
B13: INDFE - Other DFE Income | D13: =SUM(D14:D20) -> -84812.1 | E13: =SUM(E14:E20) -> -77359.66 | F13: =SUM(F14:F20) -> 0 | G13: =SUM(G14:G20) -> 7452.44 | H13: =IF(E13<>0, (D13+F13)/E13, 0) -> 1.096335 | J13: =SUM(J14:J20) -> -2097376.3 | K13: =SUM(K14:K20) -> -2046417.3 | L13: =SUM(L14:L20) -> 0 | M13: =SUM(M14:M20) -> 50959 | N13: =IF(K13<>0, (J13+L13)/K13, 0) -> 1.0249016 | P13: =SUM(P14:P20) -> -2014563.3 | Q13: =SUM(Q14:Q20) -> -2046417.3 | R13: =SUM(R14:R20) -> 31854 | T13: =SUM(T14:T20) -> -2046417.3 | U13: =SUM(U14:U20) -> -2097376.3 | V13: =SUM(V14:V20) -> 0 | W13: =SUM(W14:W20) -> 0 | X13: =SUM(X14:X20) -> -2097376.3 | Y13: =SUM(Y14:Y20) -> 50959 | Z13: =IF(T13<>0, Y13/T13, 0) -> -0.024901569
C14: 510150 - IN: DfE Revenue Grants: Rates reclaim | D14: ='Fernvale Primary School'!D14+'Glenmere Primary School'!D14+'Hinckley Parks Primary'!D14+'Hollycroft Primary School'!D15+'Langmoor Primary School'!D14+'Little Hill Primary School'!D14+'New Lubbesthorpe Primary School'!D14+'Newlands Primary School'!D14+'Ravenhurst Primary School'!D14 -> -85512.1 | E14: ='Fernvale Primary School'!E14+'Glenmere Primary School'!E14+'Hinckley Parks Primary'!E14+'Hollycroft Primary School'!E15+'Langmoor Primary School'!E14+'Little Hill Primary School'!E14+'New Lubbesthorpe Primary School'!E14+'Newlands Primary School'!E14+'Ravenhurst Primary School'!E14 -> -77359.66 | F14: ='Fernvale Primary School'!F14+'Glenmere Primary School'!F14+'Hinckley Parks Primary'!F14+'Hollycroft Primary School'!F15+'Langmoor Primary School'!F14+'Little Hill Primary School'!F14+'New Lubbesthorpe Primary School'!F14+'Newlands Primary School'!F14+'Ravenhurst Primary School'!F14 -> 0 | G14: ='Fernvale Primary School'!G14+'Glenmere Primary School'!G14+'Hinckley Parks Primary'!G14+'Hollycroft Primary School'!G15+'Langmoor Primary School'!G14+'Little Hill Primary School'!G14+'New Lubbesthorpe Primary School'!G14+'Newlands Primary School'!G14+'Ravenhurst Primary School'!G14 -> 8152.44 | H14: =IF(E14<>0, (D14+F14)/E14, 0) -> 1.1053836 | J14: ='Fernvale Primary School'!J14+'Glenmere Primary School'!J14+'Hinckley Parks Primary'!J14+'Hollycroft Primary School'!J15+'Langmoor Primary School'!J14+'Little Hill Primary School'!J14+'New Lubbesthorpe Primary School'!J14+'Newlands Primary School'!J14+'Ravenhurst Primary School'!J14 -> -85512.1 | K14: ='Fernvale Primary School'!K14+'Glenmere Primary School'!K14+'Hinckley Parks Primary'!K14+'Hollycroft Primary School'!K15+'Langmoor Primary School'!K14+'Little Hill Primary School'!K14+'New Lubbesthorpe Primary School'!K14+'Newlands Primary School'!K14+'Ravenhurst Primary School'!K14 -> -77359.66 | L14: ='Fernvale Primary School'!L14+'Glenmere Primary School'!L14+'Hinckley Parks Primary'!L14+'Hollycroft Primary School'!L15+'Langmoor Primary School'!L14+'Little Hill Primary School'!L14+'New Lubbesthorpe Primary School'!L14+'Newlands Primary School'!L14+'Ravenhurst Primary School'!L14 -> 0 | M14: ='Fernvale Primary School'!M14+'Glenmere Primary School'!M14+'Hinckley Parks Primary'!M14+'Hollycroft Primary School'!M15+'Langmoor Primary School'!M14+'Little Hill Primary School'!M14+'New Lubbesthorpe Primary School'!M14+'Newlands Primary School'!M14+'Ravenhurst Primary School'!M14 -> 8152.44 | N14: =IF(K14<>0, (J14+L14)/K14, 0) -> 1.1053836 | P14: ='Fernvale Primary School'!P14+'Glenmere Primary School'!P14+'Hinckley Parks Primary'!P14+'Hollycroft Primary School'!P15+'Langmoor Primary School'!P14+'Little Hill Primary School'!P14+'New Lubbesthorpe Primary School'!P14+'Newlands Primary School'!P14+'Ravenhurst Primary School'!P14 -> -76530.66 | Q14: ='Fernvale Primary School'!Q14+'Glenmere Primary School'!Q14+'Hinckley Parks Primary'!Q14+'Hollycroft Primary School'!Q15+'Langmoor Primary School'!Q14+'Little Hill Primary School'!Q14+'New Lubbesthorpe Primary School'!Q14+'Newlands Primary School'!Q14+'Ravenhurst Primary School'!Q14 -> -77359.66 | R14: ='Fernvale Primary School'!R14+'Glenmere Primary School'!R14+'Hinckley Parks Primary'!R14+'Hollycroft Primary School'!R15+'Langmoor Primary School'!R14+'Little Hill Primary School'!R14+'New Lubbesthorpe Primary School'!R14+'Newlands Primary School'!R14+'Ravenhurst Primary School'!R14 -> 829 | T14: ='Fernvale Primary School'!T14+'Glenmere Primary School'!T14+'Hinckley Parks Primary'!T14+'Hollycroft Primary School'!T15+'Langmoor Primary School'!T14+'Little Hill Primary School'!T14+'New Lubbesthorpe Primary School'!T14+'Newlands Primary School'!T14+'Ravenhurst Primary School'!T14 -> -77359.66 | U14: ='Fernvale Primary School'!U14+'Glenmere Primary School'!U14+'Hinckley Parks Primary'!U14+'Hollycroft Primary School'!U15+'Langmoor Primary School'!U14+'Little Hill Primary School'!U14+'New Lubbesthorpe Primary School'!U14+'Newlands Primary School'!U14+'Ravenhurst Primary School'!U14 -> -85512.1 | V14: =IF('Fernvale Primary School'!V14="",0,'Fernvale Primary School'!V14)+IF('Glenmere Primary School'!V14="",0,'Glenmere Primary School'!V14)+IF('Hinckley Parks Primary'!V14="",0,'Hinckley Parks Primary'!V14)+IF('Hollycroft Primary School'!V15="",0,'Hollycroft Primary School'!V15)+IF('Langmoor Primary School'!V14="",0,'Langmoor Primary School'!V14)+IF('Little Hill Primary School'!V14="",0,'Little Hill Primary School'!V14)+IF('New Lubbesthorpe Primary School'!V14="",0,'New Lubbesthorpe Primary School'!V14)+IF('Newlands Primary School'!V14="",0,'Newlands Primary School'!V14)+IF('Ravenhurst Primary School'!V14="",0,'Ravenhurst Primary School'!V14) -> 0 | W14: ='Fernvale Primary School'!W14+'Glenmere Primary School'!W14+'Hinckley Parks Primary'!W14+'Hollycroft Primary School'!W15+'Langmoor Primary School'!W14+'Little Hill Primary School'!W14+'New Lubbesthorpe Primary School'!W14+'Newlands Primary School'!W14+'Ravenhurst Primary School'!W14 -> 0 | X14: ='Fernvale Primary School'!X14+'Glenmere Primary School'!X14+'Hinckley Parks Primary'!X14+'Hollycroft Primary School'!X15+'Langmoor Primary School'!X14+'Little Hill Primary School'!X14+'New Lubbesthorpe Primary School'!X14+'Newlands Primary School'!X14+'Ravenhurst Primary School'!X14 -> -85512.1 | Y14: ='Fernvale Primary School'!Y14+'Glenmere Primary School'!Y14+'Hinckley Parks Primary'!Y14+'Hollycroft Primary School'!Y15+'Langmoor Primary School'!Y14+'Little Hill Primary School'!Y14+'New Lubbesthorpe Primary School'!Y14+'Newlands Primary School'!Y14+'Ravenhurst Primary School'!Y14 -> 8152.44 | Z14: =IF(T14<>0, Y14/T14, 0) -> -0.10538361
C15: 510200 - IN: DfE Revenue Grants: Pupil Premium | D15: ='Fernvale Primary School'!D15+'Glenmere Primary School'!D15+'Hinckley Parks Primary'!D15+'Hollycroft Primary School'!D16+'Langmoor Primary School'!D15+'Little Hill Primary School'!D15+'New Lubbesthorpe Primary School'!D15+'Newlands Primary School'!D15+'Ravenhurst Primary School'!D15 -> 700 | E15: ='Fernvale Primary School'!E15+'Glenmere Primary School'!E15+'Hinckley Parks Primary'!E15+'Hollycroft Primary School'!E16+'Langmoor Primary School'!E15+'Little Hill Primary School'!E15+'New Lubbesthorpe Primary School'!E15+'Newlands Primary School'!E15+'Ravenhurst Primary School'!E15 -> 0 | F15: ='Fernvale Primary School'!F15+'Glenmere Primary School'!F15+'Hinckley Parks Primary'!F15+'Hollycroft Primary School'!F16+'Langmoor Primary School'!F15+'Little Hill Primary School'!F15+'New Lubbesthorpe Primary School'!F15+'Newlands Primary School'!F15+'Ravenhurst Primary School'!F15 -> 0 | G15: ='Fernvale Primary School'!G15+'Glenmere Primary School'!G15+'Hinckley Parks Primary'!G15+'Hollycroft Primary School'!G16+'Langmoor Primary School'!G15+'Little Hill Primary School'!G15+'New Lubbesthorpe Primary School'!G15+'Newlands Primary School'!G15+'Ravenhurst Primary School'!G15 -> -700 | H15: =IF(E15<>0, (D15+F15)/E15, 0) -> 0 | J15: ='Fernvale Primary School'!J15+'Glenmere Primary School'!J15+'Hinckley Parks Primary'!J15+'Hollycroft Primary School'!J16+'Langmoor Primary School'!J15+'Little Hill Primary School'!J15+'New Lubbesthorpe Primary School'!J15+'Newlands Primary School'!J15+'Ravenhurst Primary School'!J15 -> -785725.75 | K15: ='Fernvale Primary School'!K15+'Glenmere Primary School'!K15+'Hinckley Parks Primary'!K15+'Hollycroft Primary School'!K16+'Langmoor Primary School'!K15+'Little Hill Primary School'!K15+'New Lubbesthorpe Primary School'!K15+'Newlands Primary School'!K15+'Ravenhurst Primary School'!K15 -> -776983.36 | L15: ='Fernvale Primary School'!L15+'Glenmere Primary School'!L15+'Hinckley Parks Primary'!L15+'Hollycroft Primary School'!L16+'Langmoor Primary School'!L15+'Little Hill Primary School'!L15+'New Lubbesthorpe Primary School'!L15+'Newlands Primary School'!L15+'Ravenhurst Primary School'!L15 -> 0 | M15: ='Fernvale Primary School'!M15+'Glenmere Primary School'!M15+'Hinckley Parks Primary'!M15+'Hollycroft Primary School'!M16+'Langmoor Primary School'!M15+'Little Hill Primary School'!M15+'New Lubbesthorpe Primary School'!M15+'Newlands Primary School'!M15+'Ravenhurst Primary School'!M15 -> 8742.39 | N15: =IF(K15<>0, (J15+L15)/K15, 0) -> 1.0112517 | P15: ='Fernvale Primary School'!P15+'Glenmere Primary School'!P15+'Hinckley Parks Primary'!P15+'Hollycroft Primary School'!P16+'Langmoor Primary School'!P15+'Little Hill Primary School'!P15+'New Lubbesthorpe Primary School'!P15+'Newlands Primary School'!P15+'Ravenhurst Primary School'!P15 -> -770985.47 | Q15: ='Fernvale Primary School'!Q15+'Glenmere Primary School'!Q15+'Hinckley Parks Primary'!Q15+'Hollycroft Primary School'!Q16+'Langmoor Primary School'!Q15+'Little Hill Primary School'!Q15+'New Lubbesthorpe Primary School'!Q15+'Newlands Primary School'!Q15+'Ravenhurst Primary School'!Q15 -> -776983.36 | R15: ='Fernvale Primary School'!R15+'Glenmere Primary School'!R15+'Hinckley Parks Primary'!R15+'Hollycroft Primary School'!R16+'Langmoor Primary School'!R15+'Little Hill Primary School'!R15+'New Lubbesthorpe Primary School'!R15+'Newlands Primary School'!R15+'Ravenhurst Primary School'!R15 -> 5997.89 | T15: ='Fernvale Primary School'!T15+'Glenmere Primary School'!T15+'Hinckley Parks Primary'!T15+'Hollycroft Primary School'!T16+'Langmoor Primary School'!T15+'Little Hill Primary School'!T15+'New Lubbesthorpe Primary School'!T15+'Newlands Primary School'!T15+'Ravenhurst Primary School'!T15 -> -776983.36 | U15: ='Fernvale Primary School'!U15+'Glenmere Primary School'!U15+'Hinckley Parks Primary'!U15+'Hollycroft Primary School'!U16+'Langmoor Primary School'!U15+'Little Hill Primary School'!U15+'New Lubbesthorpe Primary School'!U15+'Newlands Primary School'!U15+'Ravenhurst Primary School'!U15 -> -785725.75 | V15: =IF('Fernvale Primary School'!V15="",0,'Fernvale Primary School'!V15)+IF('Glenmere Primary School'!V15="",0,'Glenmere Primary School'!V15)+IF('Hinckley Parks Primary'!V15="",0,'Hinckley Parks Primary'!V15)+IF('Hollycroft Primary School'!V16="",0,'Hollycroft Primary School'!V16)+IF('Langmoor Primary School'!V15="",0,'Langmoor Primary School'!V15)+IF('Little Hill Primary School'!V15="",0,'Little Hill Primary School'!V15)+IF('New Lubbesthorpe Primary School'!V15="",0,'New Lubbesthorpe Primary School'!V15)+IF('Newlands Primary School'!V15="",0,'Newlands Primary School'!V15)+IF('Ravenhurst Primary School'!V15="",0,'Ravenhurst Primary School'!V15) -> 0 | W15: ='Fernvale Primary School'!W15+'Glenmere Primary School'!W15+'Hinckley Parks Primary'!W15+'Hollycroft Primary School'!W16+'Langmoor Primary School'!W15+'Little Hill Primary School'!W15+'New Lubbesthorpe Primary School'!W15+'Newlands Primary School'!W15+'Ravenhurst Primary School'!W15 -> 0 | X15: ='Fernvale Primary School'!X15+'Glenmere Primary School'!X15+'Hinckley Parks Primary'!X15+'Hollycroft Primary School'!X16+'Langmoor Primary School'!X15+'Little Hill Primary School'!X15+'New Lubbesthorpe Primary School'!X15+'Newlands Primary School'!X15+'Ravenhurst Primary School'!X15 -> -785725.75 | Y15: ='Fernvale Primary School'!Y15+'Glenmere Primary School'!Y15+'Hinckley Parks Primary'!Y15+'Hollycroft Primary School'!Y16+'Langmoor Primary School'!Y15+'Little Hill Primary School'!Y15+'New Lubbesthorpe Primary School'!Y15+'Newlands Primary School'!Y15+'Ravenhurst Primary School'!Y15 -> 8742.39 | Z15: =IF(T15<>0, Y15/T15, 0) -> -0.011251708
C16: 510250 - IN: DfE Revenue Grants: Uni Inf FSM | D16: ='Fernvale Primary School'!D16+'Glenmere Primary School'!D16+'Hinckley Parks Primary'!D16+'Hollycroft Primary School'!D17+'Langmoor Primary School'!D16+'Little Hill Primary School'!D16+'New Lubbesthorpe Primary School'!D16+'Newlands Primary School'!D16+'Ravenhurst Primary School'!D16 -> 0 | E16: ='Fernvale Primary School'!E16+'Glenmere Primary School'!E16+'Hinckley Parks Primary'!E16+'Hollycroft Primary School'!E17+'Langmoor Primary School'!E16+'Little Hill Primary School'!E16+'New Lubbesthorpe Primary School'!E16+'Newlands Primary School'!E16+'Ravenhurst Primary School'!E16 -> 0 | F16: ='Fernvale Primary School'!F16+'Glenmere Primary School'!F16+'Hinckley Parks Primary'!F16+'Hollycroft Primary School'!F17+'Langmoor Primary School'!F16+'Little Hill Primary School'!F16+'New Lubbesthorpe Primary School'!F16+'Newlands Primary School'!F16+'Ravenhurst Primary School'!F16 -> 0 | G16: ='Fernvale Primary School'!G16+'Glenmere Primary School'!G16+'Hinckley Parks Primary'!G16+'Hollycroft Primary School'!G17+'Langmoor Primary School'!G16+'Little Hill Primary School'!G16+'New Lubbesthorpe Primary School'!G16+'Newlands Primary School'!G16+'Ravenhurst Primary School'!G16 -> 0 | H16: =IF(E16<>0, (D16+F16)/E16, 0) -> 0 | J16: ='Fernvale Primary School'!J16+'Glenmere Primary School'!J16+'Hinckley Parks Primary'!J16+'Hollycroft Primary School'!J17+'Langmoor Primary School'!J16+'Little Hill Primary School'!J16+'New Lubbesthorpe Primary School'!J16+'Newlands Primary School'!J16+'Ravenhurst Primary School'!J16 -> -390212 | K16: ='Fernvale Primary School'!K16+'Glenmere Primary School'!K16+'Hinckley Parks Primary'!K16+'Hollycroft Primary School'!K17+'Langmoor Primary School'!K16+'Little Hill Primary School'!K16+'New Lubbesthorpe Primary School'!K16+'Newlands Primary School'!K16+'Ravenhurst Primary School'!K16 -> -472157.41 | L16: ='Fernvale Primary School'!L16+'Glenmere Primary School'!L16+'Hinckley Parks Primary'!L16+'Hollycroft Primary School'!L17+'Langmoor Primary School'!L16+'Little Hill Primary School'!L16+'New Lubbesthorpe Primary School'!L16+'Newlands Primary School'!L16+'Ravenhurst Primary School'!L16 -> 0 | M16: ='Fernvale Primary School'!M16+'Glenmere Primary School'!M16+'Hinckley Parks Primary'!M16+'Hollycroft Primary School'!M17+'Langmoor Primary School'!M16+'Little Hill Primary School'!M16+'New Lubbesthorpe Primary School'!M16+'Newlands Primary School'!M16+'Ravenhurst Primary School'!M16 -> -81945.41 | N16: =IF(K16<>0, (J16+L16)/K16, 0) -> 0.82644472 | P16: ='Fernvale Primary School'!P16+'Glenmere Primary School'!P16+'Hinckley Parks Primary'!P16+'Hollycroft Primary School'!P17+'Langmoor Primary School'!P16+'Little Hill Primary School'!P16+'New Lubbesthorpe Primary School'!P16+'Newlands Primary School'!P16+'Ravenhurst Primary School'!P16 -> -493298.02 | Q16: ='Fernvale Primary School'!Q16+'Glenmere Primary School'!Q16+'Hinckley Parks Primary'!Q16+'Hollycroft Primary School'!Q17+'Langmoor Primary School'!Q16+'Little Hill Primary School'!Q16+'New Lubbesthorpe Primary School'!Q16+'Newlands Primary School'!Q16+'Ravenhurst Primary School'!Q16 -> -472157.41 | R16: ='Fernvale Primary School'!R16+'Glenmere Primary School'!R16+'Hinckley Parks Primary'!R16+'Hollycroft Primary School'!R17+'Langmoor Primary School'!R16+'Little Hill Primary School'!R16+'New Lubbesthorpe Primary School'!R16+'Newlands Primary School'!R16+'Ravenhurst Primary School'!R16 -> -21140.61 | T16: ='Fernvale Primary School'!T16+'Glenmere Primary School'!T16+'Hinckley Parks Primary'!T16+'Hollycroft Primary School'!T17+'Langmoor Primary School'!T16+'Little Hill Primary School'!T16+'New Lubbesthorpe Primary School'!T16+'Newlands Primary School'!T16+'Ravenhurst Primary School'!T16 -> -472157.41 | U16: ='Fernvale Primary School'!U16+'Glenmere Primary School'!U16+'Hinckley Parks Primary'!U16+'Hollycroft Primary School'!U17+'Langmoor Primary School'!U16+'Little Hill Primary School'!U16+'New Lubbesthorpe Primary School'!U16+'Newlands Primary School'!U16+'Ravenhurst Primary School'!U16 -> -390212 | V16: =IF('Fernvale Primary School'!V16="",0,'Fernvale Primary School'!V16)+IF('Glenmere Primary School'!V16="",0,'Glenmere Primary School'!V16)+IF('Hinckley Parks Primary'!V16="",0,'Hinckley Parks Primary'!V16)+IF('Hollycroft Primary School'!V17="",0,'Hollycroft Primary School'!V17)+IF('Langmoor Primary School'!V16="",0,'Langmoor Primary School'!V16)+IF('Little Hill Primary School'!V16="",0,'Little Hill Primary School'!V16)+IF('New Lubbesthorpe Primary School'!V16="",0,'New Lubbesthorpe Primary School'!V16)+IF('Newlands Primary School'!V16="",0,'Newlands Primary School'!V16)+IF('Ravenhurst Primary School'!V16="",0,'Ravenhurst Primary School'!V16) -> 0 | W16: ='Fernvale Primary School'!W16+'Glenmere Primary School'!W16+'Hinckley Parks Primary'!W16+'Hollycroft Primary School'!W17+'Langmoor Primary School'!W16+'Little Hill Primary School'!W16+'New Lubbesthorpe Primary School'!W16+'Newlands Primary School'!W16+'Ravenhurst Primary School'!W16 -> 0 | X16: ='Fernvale Primary School'!X16+'Glenmere Primary School'!X16+'Hinckley Parks Primary'!X16+'Hollycroft Primary School'!X17+'Langmoor Primary School'!X16+'Little Hill Primary School'!X16+'New Lubbesthorpe Primary School'!X16+'Newlands Primary School'!X16+'Ravenhurst Primary School'!X16 -> -390212 | Y16: ='Fernvale Primary School'!Y16+'Glenmere Primary School'!Y16+'Hinckley Parks Primary'!Y16+'Hollycroft Primary School'!Y17+'Langmoor Primary School'!Y16+'Little Hill Primary School'!Y16+'New Lubbesthorpe Primary School'!Y16+'Newlands Primary School'!Y16+'Ravenhurst Primary School'!Y16 -> -81945.41 | Z16: =IF(T16<>0, Y16/T16, 0) -> 0.17355528
C17: 510400 - IN: DfE Revenue Grants: PE & Sports grant | D17: ='Fernvale Primary School'!D17+'Glenmere Primary School'!D17+'Hinckley Parks Primary'!D17+'Hollycroft Primary School'!D18+'Langmoor Primary School'!D17+'Little Hill Primary School'!D17+'New Lubbesthorpe Primary School'!D17+'Newlands Primary School'!D17+'Ravenhurst Primary School'!D17 -> 0 | E17: ='Fernvale Primary School'!E17+'Glenmere Primary School'!E17+'Hinckley Parks Primary'!E17+'Hollycroft Primary School'!E18+'Langmoor Primary School'!E17+'Little Hill Primary School'!E17+'New Lubbesthorpe Primary School'!E17+'Newlands Primary School'!E17+'Ravenhurst Primary School'!E17 -> 0 | F17: ='Fernvale Primary School'!F17+'Glenmere Primary School'!F17+'Hinckley Parks Primary'!F17+'Hollycroft Primary School'!F18+'Langmoor Primary School'!F17+'Little Hill Primary School'!F17+'New Lubbesthorpe Primary School'!F17+'Newlands Primary School'!F17+'Ravenhurst Primary School'!F17 -> 0 | G17: ='Fernvale Primary School'!G17+'Glenmere Primary School'!G17+'Hinckley Parks Primary'!G17+'Hollycroft Primary School'!G18+'Langmoor Primary School'!G17+'Little Hill Primary School'!G17+'New Lubbesthorpe Primary School'!G17+'Newlands Primary School'!G17+'Ravenhurst Primary School'!G17 -> 0 | H17: =IF(E17<>0, (D17+F17)/E17, 0) -> 0 | J17: ='Fernvale Primary School'!J17+'Glenmere Primary School'!J17+'Hinckley Parks Primary'!J17+'Hollycroft Primary School'!J18+'Langmoor Primary School'!J17+'Little Hill Primary School'!J17+'New Lubbesthorpe Primary School'!J17+'Newlands Primary School'!J17+'Ravenhurst Primary School'!J17 -> -168380 | K17: ='Fernvale Primary School'!K17+'Glenmere Primary School'!K17+'Hinckley Parks Primary'!K17+'Hollycroft Primary School'!K18+'Langmoor Primary School'!K17+'Little Hill Primary School'!K17+'New Lubbesthorpe Primary School'!K17+'Newlands Primary School'!K17+'Ravenhurst Primary School'!K17 -> -168800 | L17: ='Fernvale Primary School'!L17+'Glenmere Primary School'!L17+'Hinckley Parks Primary'!L17+'Hollycroft Primary School'!L18+'Langmoor Primary School'!L17+'Little Hill Primary School'!L17+'New Lubbesthorpe Primary School'!L17+'Newlands Primary School'!L17+'Ravenhurst Primary School'!L17 -> 0 | M17: ='Fernvale Primary School'!M17+'Glenmere Primary School'!M17+'Hinckley Parks Primary'!M17+'Hollycroft Primary School'!M18+'Langmoor Primary School'!M17+'Little Hill Primary School'!M17+'New Lubbesthorpe Primary School'!M17+'Newlands Primary School'!M17+'Ravenhurst Primary School'!M17 -> -420 | N17: =IF(K17<>0, (J17+L17)/K17, 0) -> 0.99751185 | P17: ='Fernvale Primary School'!P17+'Glenmere Primary School'!P17+'Hinckley Parks Primary'!P17+'Hollycroft Primary School'!P18+'Langmoor Primary School'!P17+'Little Hill Primary School'!P17+'New Lubbesthorpe Primary School'!P17+'Newlands Primary School'!P17+'Ravenhurst Primary School'!P17 -> -169760 | Q17: ='Fernvale Primary School'!Q17+'Glenmere Primary School'!Q17+'Hinckley Parks Primary'!Q17+'Hollycroft Primary School'!Q18+'Langmoor Primary School'!Q17+'Little Hill Primary School'!Q17+'New Lubbesthorpe Primary School'!Q17+'Newlands Primary School'!Q17+'Ravenhurst Primary School'!Q17 -> -168800 | R17: ='Fernvale Primary School'!R17+'Glenmere Primary School'!R17+'Hinckley Parks Primary'!R17+'Hollycroft Primary School'!R18+'Langmoor Primary School'!R17+'Little Hill Primary School'!R17+'New Lubbesthorpe Primary School'!R17+'Newlands Primary School'!R17+'Ravenhurst Primary School'!R17 -> -960 | T17: ='Fernvale Primary School'!T17+'Glenmere Primary School'!T17+'Hinckley Parks Primary'!T17+'Hollycroft Primary School'!T18+'Langmoor Primary School'!T17+'Little Hill Primary School'!T17+'New Lubbesthorpe Primary School'!T17+'Newlands Primary School'!T17+'Ravenhurst Primary School'!T17 -> -168800 | U17: ='Fernvale Primary School'!U17+'Glenmere Primary School'!U17+'Hinckley Parks Primary'!U17+'Hollycroft Primary School'!U18+'Langmoor Primary School'!U17+'Little Hill Primary School'!U17+'New Lubbesthorpe Primary School'!U17+'Newlands Primary School'!U17+'Ravenhurst Primary School'!U17 -> -168380 | V17: =IF('Fernvale Primary School'!V17="",0,'Fernvale Primary School'!V17)+IF('Glenmere Primary School'!V17="",0,'Glenmere Primary School'!V17)+IF('Hinckley Parks Primary'!V17="",0,'Hinckley Parks Primary'!V17)+IF('Hollycroft Primary School'!V18="",0,'Hollycroft Primary School'!V18)+IF('Langmoor Primary School'!V17="",0,'Langmoor Primary School'!V17)+IF('Little Hill Primary School'!V17="",0,'Little Hill Primary School'!V17)+IF('New Lubbesthorpe Primary School'!V17="",0,'New Lubbesthorpe Primary School'!V17)+IF('Newlands Primary School'!V17="",0,'Newlands Primary School'!V17)+IF('Ravenhurst Primary School'!V17="",0,'Ravenhurst Primary School'!V17) -> 0 | W17: ='Fernvale Primary School'!W17+'Glenmere Primary School'!W17+'Hinckley Parks Primary'!W17+'Hollycroft Primary School'!W18+'Langmoor Primary School'!W17+'Little Hill Primary School'!W17+'New Lubbesthorpe Primary School'!W17+'Newlands Primary School'!W17+'Ravenhurst Primary School'!W17 -> 0 | X17: ='Fernvale Primary School'!X17+'Glenmere Primary School'!X17+'Hinckley Parks Primary'!X17+'Hollycroft Primary School'!X18+'Langmoor Primary School'!X17+'Little Hill Primary School'!X17+'New Lubbesthorpe Primary School'!X17+'Newlands Primary School'!X17+'Ravenhurst Primary School'!X17 -> -168380 | Y17: ='Fernvale Primary School'!Y17+'Glenmere Primary School'!Y17+'Hinckley Parks Primary'!Y17+'Hollycroft Primary School'!Y18+'Langmoor Primary School'!Y17+'Little Hill Primary School'!Y17+'New Lubbesthorpe Primary School'!Y17+'Newlands Primary School'!Y17+'Ravenhurst Primary School'!Y17 -> -420 | Z17: =IF(T17<>0, Y17/T17, 0) -> 0.0024881517
C18: 510950 - IN: DfE Revenue Grants: Other DfE revenue grants | D18: ='Fernvale Primary School'!D18+'Glenmere Primary School'!D18+'Hinckley Parks Primary'!D18+'Hollycroft Primary School'!D19+'Langmoor Primary School'!D18+'Little Hill Primary School'!D18+'New Lubbesthorpe Primary School'!D18+'Newlands Primary School'!D18+'Ravenhurst Primary School'!D18 -> 0 | E18: ='Fernvale Primary School'!E18+'Glenmere Primary School'!E18+'Hinckley Parks Primary'!E18+'Hollycroft Primary School'!E19+'Langmoor Primary School'!E18+'Little Hill Primary School'!E18+'New Lubbesthorpe Primary School'!E18+'Newlands Primary School'!E18+'Ravenhurst Primary School'!E18 -> 0 | F18: ='Fernvale Primary School'!F18+'Glenmere Primary School'!F18+'Hinckley Parks Primary'!F18+'Hollycroft Primary School'!F19+'Langmoor Primary School'!F18+'Little Hill Primary School'!F18+'New Lubbesthorpe Primary School'!F18+'Newlands Primary School'!F18+'Ravenhurst Primary School'!F18 -> 0 | G18: ='Fernvale Primary School'!G18+'Glenmere Primary School'!G18+'Hinckley Parks Primary'!G18+'Hollycroft Primary School'!G19+'Langmoor Primary School'!G18+'Little Hill Primary School'!G18+'New Lubbesthorpe Primary School'!G18+'Newlands Primary School'!G18+'Ravenhurst Primary School'!G18 -> 0 | H18: =IF(E18<>0, (D18+F18)/E18, 0) -> 0 | J18: ='Fernvale Primary School'!J18+'Glenmere Primary School'!J18+'Hinckley Parks Primary'!J18+'Hollycroft Primary School'!J19+'Langmoor Primary School'!J18+'Little Hill Primary School'!J18+'New Lubbesthorpe Primary School'!J18+'Newlands Primary School'!J18+'Ravenhurst Primary School'!J18 -> -440849.82 | K18: ='Fernvale Primary School'!K18+'Glenmere Primary School'!K18+'Hinckley Parks Primary'!K18+'Hollycroft Primary School'!K19+'Langmoor Primary School'!K18+'Little Hill Primary School'!K18+'New Lubbesthorpe Primary School'!K18+'Newlands Primary School'!K18+'Ravenhurst Primary School'!K18 -> -400304 | L18: ='Fernvale Primary School'!L18+'Glenmere Primary School'!L18+'Hinckley Parks Primary'!L18+'Hollycroft Primary School'!L19+'Langmoor Primary School'!L18+'Little Hill Primary School'!L18+'New Lubbesthorpe Primary School'!L18+'Newlands Primary School'!L18+'Ravenhurst Primary School'!L18 -> 0 | M18: ='Fernvale Primary School'!M18+'Glenmere Primary School'!M18+'Hinckley Parks Primary'!M18+'Hollycroft Primary School'!M19+'Langmoor Primary School'!M18+'Little Hill Primary School'!M18+'New Lubbesthorpe Primary School'!M18+'Newlands Primary School'!M18+'Ravenhurst Primary School'!M18 -> 40545.82 | N18: =IF(K18<>0, (J18+L18)/K18, 0) -> 1.1012876 | P18: ='Fernvale Primary School'!P18+'Glenmere Primary School'!P18+'Hinckley Parks Primary'!P18+'Hollycroft Primary School'!P19+'Langmoor Primary School'!P18+'Little Hill Primary School'!P18+'New Lubbesthorpe Primary School'!P18+'Newlands Primary School'!P18+'Ravenhurst Primary School'!P18 -> -293710.28 | Q18: ='Fernvale Primary School'!Q18+'Glenmere Primary School'!Q18+'Hinckley Parks Primary'!Q18+'Hollycroft Primary School'!Q19+'Langmoor Primary School'!Q18+'Little Hill Primary School'!Q18+'New Lubbesthorpe Primary School'!Q18+'Newlands Primary School'!Q18+'Ravenhurst Primary School'!Q18 -> -400304 | R18: ='Fernvale Primary School'!R18+'Glenmere Primary School'!R18+'Hinckley Parks Primary'!R18+'Hollycroft Primary School'!R19+'Langmoor Primary School'!R18+'Little Hill Primary School'!R18+'New Lubbesthorpe Primary School'!R18+'Newlands Primary School'!R18+'Ravenhurst Primary School'!R18 -> 106593.72 | T18: ='Fernvale Primary School'!T18+'Glenmere Primary School'!T18+'Hinckley Parks Primary'!T18+'Hollycroft Primary School'!T19+'Langmoor Primary School'!T18+'Little Hill Primary School'!T18+'New Lubbesthorpe Primary School'!T18+'Newlands Primary School'!T18+'Ravenhurst Primary School'!T18 -> -400304 | U18: ='Fernvale Primary School'!U18+'Glenmere Primary School'!U18+'Hinckley Parks Primary'!U18+'Hollycroft Primary School'!U19+'Langmoor Primary School'!U18+'Little Hill Primary School'!U18+'New Lubbesthorpe Primary School'!U18+'Newlands Primary School'!U18+'Ravenhurst Primary School'!U18 -> -440849.82 | V18: =IF('Fernvale Primary School'!V18="",0,'Fernvale Primary School'!V18)+IF('Glenmere Primary School'!V18="",0,'Glenmere Primary School'!V18)+IF('Hinckley Parks Primary'!V18="",0,'Hinckley Parks Primary'!V18)+IF('Hollycroft Primary School'!V19="",0,'Hollycroft Primary School'!V19)+IF('Langmoor Primary School'!V18="",0,'Langmoor Primary School'!V18)+IF('Little Hill Primary School'!V18="",0,'Little Hill Primary School'!V18)+IF('New Lubbesthorpe Primary School'!V18="",0,'New Lubbesthorpe Primary School'!V18)+IF('Newlands Primary School'!V18="",0,'Newlands Primary School'!V18)+IF('Ravenhurst Primary School'!V18="",0,'Ravenhurst Primary School'!V18) -> 0 | W18: ='Fernvale Primary School'!W18+'Glenmere Primary School'!W18+'Hinckley Parks Primary'!W18+'Hollycroft Primary School'!W19+'Langmoor Primary School'!W18+'Little Hill Primary School'!W18+'New Lubbesthorpe Primary School'!W18+'Newlands Primary School'!W18+'Ravenhurst Primary School'!W18 -> 0 | X18: ='Fernvale Primary School'!X18+'Glenmere Primary School'!X18+'Hinckley Parks Primary'!X18+'Hollycroft Primary School'!X19+'Langmoor Primary School'!X18+'Little Hill Primary School'!X18+'New Lubbesthorpe Primary School'!X18+'Newlands Primary School'!X18+'Ravenhurst Primary School'!X18 -> -440849.82 | Y18: ='Fernvale Primary School'!Y18+'Glenmere Primary School'!Y18+'Hinckley Parks Primary'!Y18+'Hollycroft Primary School'!Y19+'Langmoor Primary School'!Y18+'Little Hill Primary School'!Y18+'New Lubbesthorpe Primary School'!Y18+'Newlands Primary School'!Y18+'Ravenhurst Primary School'!Y18 -> 40545.82 | Z18: =IF(T18<>0, Y18/T18, 0) -> -0.10128757
C19: 510970 - IN: DfE Revenue Grants: Schools Budget Grant | D19: ='Fernvale Primary School'!D19+'Glenmere Primary School'!D19+'Hinckley Parks Primary'!D19+'Hollycroft Primary School'!D20+'Langmoor Primary School'!D19+'Little Hill Primary School'!D19+'New Lubbesthorpe Primary School'!D19+'Newlands Primary School'!D19+'Ravenhurst Primary School'!D19 -> 0 | E19: ='Fernvale Primary School'!E19+'Glenmere Primary School'!E19+'Hinckley Parks Primary'!E19+'Hollycroft Primary School'!E20+'Langmoor Primary School'!E19+'Little Hill Primary School'!E19+'New Lubbesthorpe Primary School'!E19+'Newlands Primary School'!E19+'Ravenhurst Primary School'!E19 -> 0 | F19: ='Fernvale Primary School'!F19+'Glenmere Primary School'!F19+'Hinckley Parks Primary'!F19+'Hollycroft Primary School'!F20+'Langmoor Primary School'!F19+'Little Hill Primary School'!F19+'New Lubbesthorpe Primary School'!F19+'Newlands Primary School'!F19+'Ravenhurst Primary School'!F19 -> 0 | G19: ='Fernvale Primary School'!G19+'Glenmere Primary School'!G19+'Hinckley Parks Primary'!G19+'Hollycroft Primary School'!G20+'Langmoor Primary School'!G19+'Little Hill Primary School'!G19+'New Lubbesthorpe Primary School'!G19+'Newlands Primary School'!G19+'Ravenhurst Primary School'!G19 -> 0 | H19: =IF(E19<>0, (D19+F19)/E19, 0) -> 0 | J19: ='Fernvale Primary School'!J19+'Glenmere Primary School'!J19+'Hinckley Parks Primary'!J19+'Hollycroft Primary School'!J20+'Langmoor Primary School'!J19+'Little Hill Primary School'!J19+'New Lubbesthorpe Primary School'!J19+'Newlands Primary School'!J19+'Ravenhurst Primary School'!J19 -> -235113 | K19: ='Fernvale Primary School'!K19+'Glenmere Primary School'!K19+'Hinckley Parks Primary'!K19+'Hollycroft Primary School'!K20+'Langmoor Primary School'!K19+'Little Hill Primary School'!K19+'New Lubbesthorpe Primary School'!K19+'Newlands Primary School'!K19+'Ravenhurst Primary School'!K19 -> -159229 | L19: ='Fernvale Primary School'!L19+'Glenmere Primary School'!L19+'Hinckley Parks Primary'!L19+'Hollycroft Primary School'!L20+'Langmoor Primary School'!L19+'Little Hill Primary School'!L19+'New Lubbesthorpe Primary School'!L19+'Newlands Primary School'!L19+'Ravenhurst Primary School'!L19 -> 0 | M19: ='Fernvale Primary School'!M19+'Glenmere Primary School'!M19+'Hinckley Parks Primary'!M19+'Hollycroft Primary School'!M20+'Langmoor Primary School'!M19+'Little Hill Primary School'!M19+'New Lubbesthorpe Primary School'!M19+'Newlands Primary School'!M19+'Ravenhurst Primary School'!M19 -> 75884 | N19: =IF(K19<>0, (J19+L19)/K19, 0) -> 1.4765715 | P19: ='Fernvale Primary School'!P19+'Glenmere Primary School'!P19+'Hinckley Parks Primary'!P19+'Hollycroft Primary School'!P20+'Langmoor Primary School'!P19+'Little Hill Primary School'!P19+'New Lubbesthorpe Primary School'!P19+'Newlands Primary School'!P19+'Ravenhurst Primary School'!P19 -> -218695 | Q19: ='Fernvale Primary School'!Q19+'Glenmere Primary School'!Q19+'Hinckley Parks Primary'!Q19+'Hollycroft Primary School'!Q20+'Langmoor Primary School'!Q19+'Little Hill Primary School'!Q19+'New Lubbesthorpe Primary School'!Q19+'Newlands Primary School'!Q19+'Ravenhurst Primary School'!Q19 -> -159229 | R19: ='Fernvale Primary School'!R19+'Glenmere Primary School'!R19+'Hinckley Parks Primary'!R19+'Hollycroft Primary School'!R20+'Langmoor Primary School'!R19+'Little Hill Primary School'!R19+'New Lubbesthorpe Primary School'!R19+'Newlands Primary School'!R19+'Ravenhurst Primary School'!R19 -> -59466 | T19: ='Fernvale Primary School'!T19+'Glenmere Primary School'!T19+'Hinckley Parks Primary'!T19+'Hollycroft Primary School'!T20+'Langmoor Primary School'!T19+'Little Hill Primary School'!T19+'New Lubbesthorpe Primary School'!T19+'Newlands Primary School'!T19+'Ravenhurst Primary School'!T19 -> -159229 | U19: ='Fernvale Primary School'!U19+'Glenmere Primary School'!U19+'Hinckley Parks Primary'!U19+'Hollycroft Primary School'!U20+'Langmoor Primary School'!U19+'Little Hill Primary School'!U19+'New Lubbesthorpe Primary School'!U19+'Newlands Primary School'!U19+'Ravenhurst Primary School'!U19 -> -235113 | V19: =IF('Fernvale Primary School'!V19="",0,'Fernvale Primary School'!V19)+IF('Glenmere Primary School'!V19="",0,'Glenmere Primary School'!V19)+IF('Hinckley Parks Primary'!V19="",0,'Hinckley Parks Primary'!V19)+IF('Hollycroft Primary School'!V20="",0,'Hollycroft Primary School'!V20)+IF('Langmoor Primary School'!V19="",0,'Langmoor Primary School'!V19)+IF('Little Hill Primary School'!V19="",0,'Little Hill Primary School'!V19)+IF('New Lubbesthorpe Primary School'!V19="",0,'New Lubbesthorpe Primary School'!V19)+IF('Newlands Primary School'!V19="",0,'Newlands Primary School'!V19)+IF('Ravenhurst Primary School'!V19="",0,'Ravenhurst Primary School'!V19) -> 0 | W19: ='Fernvale Primary School'!W19+'Glenmere Primary School'!W19+'Hinckley Parks Primary'!W19+'Hollycroft Primary School'!W20+'Langmoor Primary School'!W19+'Little Hill Primary School'!W19+'New Lubbesthorpe Primary School'!W19+'Newlands Primary School'!W19+'Ravenhurst Primary School'!W19 -> 0 | X19: ='Fernvale Primary School'!X19+'Glenmere Primary School'!X19+'Hinckley Parks Primary'!X19+'Hollycroft Primary School'!X20+'Langmoor Primary School'!X19+'Little Hill Primary School'!X19+'New Lubbesthorpe Primary School'!X19+'Newlands Primary School'!X19+'Ravenhurst Primary School'!X19 -> -235113 | Y19: ='Fernvale Primary School'!Y19+'Glenmere Primary School'!Y19+'Hinckley Parks Primary'!Y19+'Hollycroft Primary School'!Y20+'Langmoor Primary School'!Y19+'Little Hill Primary School'!Y19+'New Lubbesthorpe Primary School'!Y19+'Newlands Primary School'!Y19+'Ravenhurst Primary School'!Y19 -> 75884 | Z19: =IF(T19<>0, Y19/T19, 0) -> -0.47657148
C20: 510140 - IN: DfE Revenue Grants: Pupil number adjustment | D20: ='Hollycroft Primary School'!D14 -> 0 | E20: ='Hollycroft Primary School'!E14 -> 0 | F20: ='Hollycroft Primary School'!F14 -> 0 | G20: ='Hollycroft Primary School'!G14 -> 0 | H20: =IF(E20<>0, (D20+F20)/E20, 0) -> 0 | J20: ='Hollycroft Primary School'!J14 -> 8416.4 | K20: ='Hollycroft Primary School'!K14 -> 8416.16 | L20: ='Hollycroft Primary School'!L14 -> 0 | M20: ='Hollycroft Primary School'!M14 -> -0.24 | N20: =IF(K20<>0, (J20+L20)/K20, 0) -> 1.0000285 | P20: ='Hollycroft Primary School'!P14 -> 8416.16 | Q20: ='Hollycroft Primary School'!Q14 -> 8416.16 | R20: ='Hollycroft Primary School'!R14 -> 0 | T20: ='Hollycroft Primary School'!T14 -> 8416.16 | U20: ='Hollycroft Primary School'!U14 -> 8416.4 | V20: =IF('Hollycroft Primary School'!V14="",0,'Hollycroft Primary School'!V14) -> 0 | W20: ='Hollycroft Primary School'!W14 -> 0 | X20: ='Hollycroft Primary School'!X14 -> 8416.4 | Y20: ='Hollycroft Primary School'!Y14 -> -0.24 | Z20: =IF(T20<>0, Y20/T20, 0) -> -2.8516568e-05
B21: INGOV - Other Govt Grants | D21: =SUM(D22:D25) -> -54649.9 | E21: =SUM(E22:E25) -> -57380.09 | F21: =SUM(F22:F25) -> 0 | G21: =SUM(G22:G25) -> -2730.19 | H21: =IF(E21<>0, (D21+F21)/E21, 0) -> 0.95241921 | J21: =SUM(J22:J25) -> -1278103.2 | K21: =SUM(K22:K25) -> -1157044 | L21: =SUM(L22:L25) -> 0 | M21: =SUM(M22:M25) -> 121059.17 | N21: =IF(K21<>0, (J21+L21)/K21, 0) -> 1.104628 | P21: =SUM(P22:P25) -> -1032864.8 | Q21: =SUM(Q22:Q25) -> -1157044 | R21: =SUM(R22:R25) -> 124179.19 | T21: =SUM(T22:T25) -> -1157044 | U21: =SUM(U22:U25) -> -1278103.2 | V21: =SUM(V22:V25) -> 0 | W21: =SUM(W22:W25) -> 0 | X21: =SUM(X22:X25) -> -1278103.2 | Y21: =SUM(Y22:Y25) -> 121059.17 | Z21: =IF(T21<>0, Y21/T21, 0) -> -0.10462797
C22: 520100 - IN: Other Grants: LA - SEN | D22: ='Fernvale Primary School'!D21+'Glenmere Primary School'!D21+'Hinckley Parks Primary'!D21+'Hollycroft Primary School'!D22+'Langmoor Primary School'!D21+'Little Hill Primary School'!D21+'New Lubbesthorpe Primary School'!D21+'Newlands Primary School'!D21+'Ravenhurst Primary School'!D21 -> -46899.9 | E22: ='Fernvale Primary School'!E21+'Glenmere Primary School'!E21+'Hinckley Parks Primary'!E21+'Hollycroft Primary School'!E22+'Langmoor Primary School'!E21+'Little Hill Primary School'!E21+'New Lubbesthorpe Primary School'!E21+'Newlands Primary School'!E21+'Ravenhurst Primary School'!E21 -> -1830.09 | F22: ='Fernvale Primary School'!F21+'Glenmere Primary School'!F21+'Hinckley Parks Primary'!F21+'Hollycroft Primary School'!F22+'Langmoor Primary School'!F21+'Little Hill Primary School'!F21+'New Lubbesthorpe Primary School'!F21+'Newlands Primary School'!F21+'Ravenhurst Primary School'!F21 -> 0 | G22: ='Fernvale Primary School'!G21+'Glenmere Primary School'!G21+'Hinckley Parks Primary'!G21+'Hollycroft Primary School'!G22+'Langmoor Primary School'!G21+'Little Hill Primary School'!G21+'New Lubbesthorpe Primary School'!G21+'Newlands Primary School'!G21+'Ravenhurst Primary School'!G21 -> 45069.81 | H22: =IF(E22<>0, (D22+F22)/E22, 0) -> 25.6271 | J22: ='Fernvale Primary School'!J21+'Glenmere Primary School'!J21+'Hinckley Parks Primary'!J21+'Hollycroft Primary School'!J22+'Langmoor Primary School'!J21+'Little Hill Primary School'!J21+'New Lubbesthorpe Primary School'!J21+'Newlands Primary School'!J21+'Ravenhurst Primary School'!J21 -> -1177721.6 | K22: ='Fernvale Primary School'!K21+'Glenmere Primary School'!K21+'Hinckley Parks Primary'!K21+'Hollycroft Primary School'!K22+'Langmoor Primary School'!K21+'Little Hill Primary School'!K21+'New Lubbesthorpe Primary School'!K21+'Newlands Primary School'!K21+'Ravenhurst Primary School'!K21 -> -1069344 | L22: ='Fernvale Primary School'!L21+'Glenmere Primary School'!L21+'Hinckley Parks Primary'!L21+'Hollycroft Primary School'!L22+'Langmoor Primary School'!L21+'Little Hill Primary School'!L21+'New Lubbesthorpe Primary School'!L21+'Newlands Primary School'!L21+'Ravenhurst Primary School'!L21 -> 0 | M22: ='Fernvale Primary School'!M21+'Glenmere Primary School'!M21+'Hinckley Parks Primary'!M21+'Hollycroft Primary School'!M22+'Langmoor Primary School'!M21+'Little Hill Primary School'!M21+'New Lubbesthorpe Primary School'!M21+'Newlands Primary School'!M21+'Ravenhurst Primary School'!M21 -> 108377.56 | N22: =IF(K22<>0, (J22+L22)/K22, 0) -> 1.1013496 | P22: ='Fernvale Primary School'!P21+'Glenmere Primary School'!P21+'Hinckley Parks Primary'!P21+'Hollycroft Primary School'!P22+'Langmoor Primary School'!P21+'Little Hill Primary School'!P21+'New Lubbesthorpe Primary School'!P21+'Newlands Primary School'!P21+'Ravenhurst Primary School'!P21 -> -943144.81 | Q22: ='Fernvale Primary School'!Q21+'Glenmere Primary School'!Q21+'Hinckley Parks Primary'!Q21+'Hollycroft Primary School'!Q22+'Langmoor Primary School'!Q21+'Little Hill Primary School'!Q21+'New Lubbesthorpe Primary School'!Q21+'Newlands Primary School'!Q21+'Ravenhurst Primary School'!Q21 -> -1069344 | R22: ='Fernvale Primary School'!R21+'Glenmere Primary School'!R21+'Hinckley Parks Primary'!R21+'Hollycroft Primary School'!R22+'Langmoor Primary School'!R21+'Little Hill Primary School'!R21+'New Lubbesthorpe Primary School'!R21+'Newlands Primary School'!R21+'Ravenhurst Primary School'!R21 -> 126199.19 | T22: ='Fernvale Primary School'!T21+'Glenmere Primary School'!T21+'Hinckley Parks Primary'!T21+'Hollycroft Primary School'!T22+'Langmoor Primary School'!T21+'Little Hill Primary School'!T21+'New Lubbesthorpe Primary School'!T21+'Newlands Primary School'!T21+'Ravenhurst Primary School'!T21 -> -1069344 | U22: ='Fernvale Primary School'!U21+'Glenmere Primary School'!U21+'Hinckley Parks Primary'!U21+'Hollycroft Primary School'!U22+'Langmoor Primary School'!U21+'Little Hill Primary School'!U21+'New Lubbesthorpe Primary School'!U21+'Newlands Primary School'!U21+'Ravenhurst Primary School'!U21 -> -1177721.6 | V22: =IF('Fernvale Primary School'!V21="",0,'Fernvale Primary School'!V21)+IF('Glenmere Primary School'!V21="",0,'Glenmere Primary School'!V21)+IF('Hinckley Parks Primary'!V21="",0,'Hinckley Parks Primary'!V21)+IF('Hollycroft Primary School'!V22="",0,'Hollycroft Primary School'!V22)+IF('Langmoor Primary School'!V21="",0,'Langmoor Primary School'!V21)+IF('Little Hill Primary School'!V21="",0,'Little Hill Primary School'!V21)+IF('New Lubbesthorpe Primary School'!V21="",0,'New Lubbesthorpe Primary School'!V21)+IF('Newlands Primary School'!V21="",0,'Newlands Primary School'!V21)+IF('Ravenhurst Primary School'!V21="",0,'Ravenhurst Primary School'!V21) -> 0 | W22: ='Fernvale Primary School'!W21+'Glenmere Primary School'!W21+'Hinckley Parks Primary'!W21+'Hollycroft Primary School'!W22+'Langmoor Primary School'!W21+'Little Hill Primary School'!W21+'New Lubbesthorpe Primary School'!W21+'Newlands Primary School'!W21+'Ravenhurst Primary School'!W21 -> 0 | X22: ='Fernvale Primary School'!X21+'Glenmere Primary School'!X21+'Hinckley Parks Primary'!X21+'Hollycroft Primary School'!X22+'Langmoor Primary School'!X21+'Little Hill Primary School'!X21+'New Lubbesthorpe Primary School'!X21+'Newlands Primary School'!X21+'Ravenhurst Primary School'!X21 -> -1177721.6 | Y22: ='Fernvale Primary School'!Y21+'Glenmere Primary School'!Y21+'Hinckley Parks Primary'!Y21+'Hollycroft Primary School'!Y22+'Langmoor Primary School'!Y21+'Little Hill Primary School'!Y21+'New Lubbesthorpe Primary School'!Y21+'Newlands Primary School'!Y21+'Ravenhurst Primary School'!Y21 -> 108377.56 | Z22: =IF(T22<>0, Y22/T22, 0) -> -0.10134958
C23: 520200 - IN: Other Grants: LA - Other grants | D23: ='Hinckley Parks Primary'!D22+'Hollycroft Primary School'!D23+'Langmoor Primary School'!D22+'Little Hill Primary School'!D22+'New Lubbesthorpe Primary School'!D22+'Newlands Primary School'!D22+'Ravenhurst Primary School'!D22 -> -750 | E23: ='Hinckley Parks Primary'!E22+'Hollycroft Primary School'!E23+'Langmoor Primary School'!E22+'Little Hill Primary School'!E22+'New Lubbesthorpe Primary School'!E22+'Newlands Primary School'!E22+'Ravenhurst Primary School'!E22 -> -55500 | F23: ='Hinckley Parks Primary'!F22+'Hollycroft Primary School'!F23+'Langmoor Primary School'!F22+'Little Hill Primary School'!F22+'New Lubbesthorpe Primary School'!F22+'Newlands Primary School'!F22+'Ravenhurst Primary School'!F22 -> 0 | G23: ='Hinckley Parks Primary'!G22+'Hollycroft Primary School'!G23+'Langmoor Primary School'!G22+'Little Hill Primary School'!G22+'New Lubbesthorpe Primary School'!G22+'Newlands Primary School'!G22+'Ravenhurst Primary School'!G22 -> -54750 | H23: =IF(E23<>0, (D23+F23)/E23, 0) -> 0.013513514 | J23: ='Hinckley Parks Primary'!J22+'Hollycroft Primary School'!J23+'Langmoor Primary School'!J22+'Little Hill Primary School'!J22+'New Lubbesthorpe Primary School'!J22+'Newlands Primary School'!J22+'Ravenhurst Primary School'!J22 -> -82381.61 | K23: ='Hinckley Parks Primary'!K22+'Hollycroft Primary School'!K23+'Langmoor Primary School'!K22+'Little Hill Primary School'!K22+'New Lubbesthorpe Primary School'!K22+'Newlands Primary School'!K22+'Ravenhurst Primary School'!K22 -> -76600 | L23: ='Hinckley Parks Primary'!L22+'Hollycroft Primary School'!L23+'Langmoor Primary School'!L22+'Little Hill Primary School'!L22+'New Lubbesthorpe Primary School'!L22+'Newlands Primary School'!L22+'Ravenhurst Primary School'!L22 -> 0 | M23: ='Hinckley Parks Primary'!M22+'Hollycroft Primary School'!M23+'Langmoor Primary School'!M22+'Little Hill Primary School'!M22+'New Lubbesthorpe Primary School'!M22+'Newlands Primary School'!M22+'Ravenhurst Primary School'!M22 -> 5781.61 | N23: =IF(K23<>0, (J23+L23)/K23, 0) -> 1.0754779 | P23: ='Hinckley Parks Primary'!P22+'Hollycroft Primary School'!P23+'Langmoor Primary School'!P22+'Little Hill Primary School'!P22+'New Lubbesthorpe Primary School'!P22+'Newlands Primary School'!P22+'Ravenhurst Primary School'!P22 -> -79220 | Q23: ='Hinckley Parks Primary'!Q22+'Hollycroft Primary School'!Q23+'Langmoor Primary School'!Q22+'Little Hill Primary School'!Q22+'New Lubbesthorpe Primary School'!Q22+'Newlands Primary School'!Q22+'Ravenhurst Primary School'!Q22 -> -76600 | R23: ='Hinckley Parks Primary'!R22+'Hollycroft Primary School'!R23+'Langmoor Primary School'!R22+'Little Hill Primary School'!R22+'New Lubbesthorpe Primary School'!R22+'Newlands Primary School'!R22+'Ravenhurst Primary School'!R22 -> -2620 | T23: ='Hinckley Parks Primary'!T22+'Hollycroft Primary School'!T23+'Langmoor Primary School'!T22+'Little Hill Primary School'!T22+'New Lubbesthorpe Primary School'!T22+'Newlands Primary School'!T22+'Ravenhurst Primary School'!T22 -> -76600 | U23: ='Hinckley Parks Primary'!U22+'Hollycroft Primary School'!U23+'Langmoor Primary School'!U22+'Little Hill Primary School'!U22+'New Lubbesthorpe Primary School'!U22+'Newlands Primary School'!U22+'Ravenhurst Primary School'!U22 -> -82381.61 | V23: =IF('Hinckley Parks Primary'!V22="",0,'Hinckley Parks Primary'!V22)+IF('Hollycroft Primary School'!V23="",0,'Hollycroft Primary School'!V23)+IF('Langmoor Primary School'!V22="",0,'Langmoor Primary School'!V22)+IF('Little Hill Primary School'!V22="",0,'Little Hill Primary School'!V22)+IF('New Lubbesthorpe Primary School'!V22="",0,'New Lubbesthorpe Primary School'!V22)+IF('Newlands Primary School'!V22="",0,'Newlands Primary School'!V22)+IF('Ravenhurst Primary School'!V22="",0,'Ravenhurst Primary School'!V22) -> 0 | W23: ='Hinckley Parks Primary'!W22+'Hollycroft Primary School'!W23+'Langmoor Primary School'!W22+'Little Hill Primary School'!W22+'New Lubbesthorpe Primary School'!W22+'Newlands Primary School'!W22+'Ravenhurst Primary School'!W22 -> 0 | X23: ='Hinckley Parks Primary'!X22+'Hollycroft Primary School'!X23+'Langmoor Primary School'!X22+'Little Hill Primary School'!X22+'New Lubbesthorpe Primary School'!X22+'Newlands Primary School'!X22+'Ravenhurst Primary School'!X22 -> -82381.61 | Y23: ='Hinckley Parks Primary'!Y22+'Hollycroft Primary School'!Y23+'Langmoor Primary School'!Y22+'Little Hill Primary School'!Y22+'New Lubbesthorpe Primary School'!Y22+'Newlands Primary School'!Y22+'Ravenhurst Primary School'!Y22 -> 5781.61 | Z23: =IF(T23<>0, Y23/T23, 0) -> -0.075477937
C24: 520355 - IN: Other Grants: Other revenue grants | D24: ='Hinckley Parks Primary'!D23 -> -7000 | E24: ='Hinckley Parks Primary'!E23 -> 0 | F24: ='Hinckley Parks Primary'!F23 -> 0 | G24: ='Hinckley Parks Primary'!G23 -> 7000 | H24: =IF(E24<>0, (D24+F24)/E24, 0) -> 0 | J24: ='Hinckley Parks Primary'!J23 -> -7500 | K24: ='Hinckley Parks Primary'!K23 -> 0 | L24: ='Hinckley Parks Primary'!L23 -> 0 | M24: ='Hinckley Parks Primary'!M23 -> 7500 | N24: =IF(K24<>0, (J24+L24)/K24, 0) -> 0 | P24: ='Hinckley Parks Primary'!P23 -> 0 | Q24: ='Hinckley Parks Primary'!Q23 -> 0 | R24: ='Hinckley Parks Primary'!R23 -> 0 | T24: ='Hinckley Parks Primary'!T23 -> 0 | U24: ='Hinckley Parks Primary'!U23 -> -7500 | V24: =IF('Hinckley Parks Primary'!V23="",0,'Hinckley Parks Primary'!V23) -> 0 | W24: ='Hinckley Parks Primary'!W23 -> 0 | X24: ='Hinckley Parks Primary'!X23 -> -7500 | Y24: ='Hinckley Parks Primary'!Y23 -> 7500 | Z24: =IF(T24<>0, Y24/T24, 0) -> 0
C25: 520300 - IN: Other Grants: Government grant - not DfE | D25: ='Newlands Primary School'!D23+'OWLS Academy Trust'!D12 -> 0 | E25: ='Newlands Primary School'!E23+'OWLS Academy Trust'!E12 -> -50 | F25: ='Newlands Primary School'!F23+'OWLS Academy Trust'!F12 -> 0 | G25: ='Newlands Primary School'!G23+'OWLS Academy Trust'!G12 -> -50 | H25: =IF(E25<>0, (D25+F25)/E25, 0) -> 0 | J25: ='Newlands Primary School'!J23+'OWLS Academy Trust'!J12 -> -10500 | K25: ='Newlands Primary School'!K23+'OWLS Academy Trust'!K12 -> -11100 | L25: ='Newlands Primary School'!L23+'OWLS Academy Trust'!L12 -> 0 | M25: ='Newlands Primary School'!M23+'OWLS Academy Trust'!M12 -> -600 | N25: =IF(K25<>0, (J25+L25)/K25, 0) -> 0.94594595 | P25: ='Newlands Primary School'!P23+'OWLS Academy Trust'!P12 -> -10500 | Q25: ='Newlands Primary School'!Q23+'OWLS Academy Trust'!Q12 -> -11100 | R25: ='Newlands Primary School'!R23+'OWLS Academy Trust'!R12 -> 600 | T25: ='Newlands Primary School'!T23+'OWLS Academy Trust'!T12 -> -11100 | U25: ='Newlands Primary School'!U23+'OWLS Academy Trust'!U12 -> -10500 | V25: =IF('Newlands Primary School'!V23="",0,'Newlands Primary School'!V23)+IF('OWLS Academy Trust'!V12="",0,'OWLS Academy Trust'!V12) -> 0 | W25: ='Newlands Primary School'!W23+'OWLS Academy Trust'!W12 -> 0 | X25: ='Newlands Primary School'!X23+'OWLS Academy Trust'!X12 -> -10500 | Y25: ='Newlands Primary School'!Y23+'OWLS Academy Trust'!Y12 -> -600 | Z25: =IF(T25<>0, Y25/T25, 0) -> 0.054054054
B26: INTOP - Top Slice Income | D26: =SUM(D27:D27) -> -59375.77 | E26: =SUM(E27:E27) -> -59363.35 | F26: =SUM(F27:F27) -> 0 | G26: =SUM(G27:G27) -> 12.42 | H26: =IF(E26<>0, (D26+F26)/E26, 0) -> 1.0002092 | J26: =SUM(J27:J27) -> -712361.11 | K26: =SUM(K27:K27) -> -712360.23 | L26: =SUM(L27:L27) -> 0 | M26: =SUM(M27:M27) -> 0.88 | N26: =IF(K26<>0, (J26+L26)/K26, 0) -> 1.0000012 | P26: =SUM(P27:P27) -> -712360.23 | Q26: =SUM(Q27:Q27) -> -712360.23 | R26: =SUM(R27:R27) -> 0 | T26: =SUM(T27:T27) -> -712360.23 | U26: =SUM(U27:U27) -> -712361.11 | V26: =SUM(V27:V27) -> 0 | W26: =SUM(W27:W27) -> 0 | X26: =SUM(X27:X27) -> -712361.11 | Y26: =SUM(Y27:Y27) -> 0.88 | Z26: =IF(T26<>0, Y26/T26, 0) -> -1.2353301e-06
C27: 530990 - IN: Trading Income: Trust Cont. from academy | D27: ='OWLS Academy Trust'!D21 -> -59375.77 | E27: ='OWLS Academy Trust'!E21 -> -59363.35 | F27: ='OWLS Academy Trust'!F21 -> 0 | G27: ='OWLS Academy Trust'!G21 -> 12.42 | H27: =IF(E27<>0, (D27+F27)/E27, 0) -> 1.0002092 | J27: ='OWLS Academy Trust'!J21 -> -712361.11 | K27: ='OWLS Academy Trust'!K21 -> -712360.23 | L27: ='OWLS Academy Trust'!L21 -> 0 | M27: ='OWLS Academy Trust'!M21 -> 0.88 | N27: =IF(K27<>0, (J27+L27)/K27, 0) -> 1.0000012 | P27: ='OWLS Academy Trust'!P21 -> -712360.23 | Q27: ='OWLS Academy Trust'!Q21 -> -712360.23 | R27: ='OWLS Academy Trust'!R21 -> 0 | T27: ='OWLS Academy Trust'!T21 -> -712360.23 | U27: ='OWLS Academy Trust'!U21 -> -712361.11 | V27: =IF('OWLS Academy Trust'!V21="",0,'OWLS Academy Trust'!V21) -> 0 | W27: ='OWLS Academy Trust'!W21 -> 0 | X27: ='OWLS Academy Trust'!X21 -> -712361.11 | Y27: ='OWLS Academy Trust'!Y21 -> 0.88 | Z27: =IF(T27<>0, Y27/T27, 0) -> -1.2353301e-06
B28: INOTH - Other Income | D28: =SUM(D29:D51) -> -33570.23 | E28: =SUM(E29:E51) -> 43887.43 | F28: =SUM(F29:F51) -> 0 | G28: =SUM(G29:G51) -> 77457.66 | H28: =IF(E28<>0, (D28+F28)/E28, 0) -> -0.76491674 | J28: =SUM(J29:J51) -> -933590.61 | K28: =SUM(K29:K51) -> -785190.22 | L28: =SUM(L29:L51) -> 0 | M28: =SUM(M29:M51) -> 148400.39 | N28: =IF(K28<>0, (J28+L28)/K28, 0) -> 1.1889993 | P28: =SUM(P29:P51) -> -742058.36 | Q28: =SUM(Q29:Q51) -> -785190.22 | R28: =SUM(R29:R51) -> 43131.86 | T28: =SUM(T29:T51) -> -785190.22 | U28: =SUM(U29:U51) -> -933590.61 | V28: =SUM(V29:V51) -> 0 | W28: =SUM(W29:W51) -> 0 | X28: =SUM(X29:X51) -> -933590.61 | Y28: =SUM(Y29:Y51) -> 148400.39 | Z28: =IF(T28<>0, Y28/T28, 0) -> -0.18899928
